BEGIN:VCALENDAR
VERSION:2.0
PRODID:-//Stiftung Entree - ECPv6.15.12.2//NONSGML v1.0//EN
CALSCALE:GREGORIAN
METHOD:PUBLISH
X-WR-CALNAME:Stiftung Entree
X-ORIGINAL-URL:https://musikstiftung-entree.de
X-WR-CALDESC:Veranstaltungen für Stiftung Entree
REFRESH-INTERVAL;VALUE=DURATION:PT1H
X-Robots-Tag:noindex
X-PUBLISHED-TTL:PT1H
BEGIN:VTIMEZONE
TZID:Europe/Berlin
BEGIN:DAYLIGHT
TZOFFSETFROM:+0100
TZOFFSETTO:+0200
TZNAME:CEST
DTSTART:20250330T010000
END:DAYLIGHT
BEGIN:STANDARD
TZOFFSETFROM:+0200
TZOFFSETTO:+0100
TZNAME:CET
DTSTART:20251026T010000
END:STANDARD
BEGIN:DAYLIGHT
TZOFFSETFROM:+0100
TZOFFSETTO:+0200
TZNAME:CEST
DTSTART:20260329T010000
END:DAYLIGHT
BEGIN:STANDARD
TZOFFSETFROM:+0200
TZOFFSETTO:+0100
TZNAME:CET
DTSTART:20261025T010000
END:STANDARD
BEGIN:DAYLIGHT
TZOFFSETFROM:+0100
TZOFFSETTO:+0200
TZNAME:CEST
DTSTART:20270328T010000
END:DAYLIGHT
BEGIN:STANDARD
TZOFFSETFROM:+0200
TZOFFSETTO:+0100
TZNAME:CET
DTSTART:20271031T010000
END:STANDARD
END:VTIMEZONE
BEGIN:VEVENT
DTSTART;VALUE=DATE:20260430
DTEND;VALUE=DATE:20261006
DTSTAMP:20260424T134556
CREATED:20260423T113917Z
LAST-MODIFIED:20260423T113917Z
UID:25026-1777507200-1791244799@musikstiftung-entree.de
SUMMARY:UDOVERSUM - Die große Udo Lindenberg Ausstellung
DESCRIPTION:Mehr Panik geht nicht: In Hamburg eröffnet bald das UDOVERSUM \nAb dem 30.04.26 wird die Hansestadt zur Panikzentrale der deutschen Musikgeschichte.\nMit „UDOVERSUM – Die Große Udo Lindenberg Ausstellung“ entsteht eine umfassende Ausstellung\, die das Leben und Werk von Udo Lindenberg feiert – Musiker\, Maler\, Rebell und Ikone. \nZum 80. Geburtstag des Ausnahmekünstlers öffnet sich eine Erlebniswelt\, die Besucher mitten hineinführt in das UDOVERSUM sowie in den Mythos eines Künstlers\, der Generationen geprägt hat. \n \nTickets gibt es ab sofort auf https://bit.ly/udoversum2026 und semmel.de
URL:https://musikstiftung-entree.de/event/udoversum-die-grosse-udo-lindenberg-ausstellung/
LOCATION:Stilwerk Hamburg\, Große Elbstraße 68\, Hamburg\, Hamburg\, 22767\, Germany
CATEGORIES:Ausstellung
ATTACH;FMTTYPE=image/jpeg:https://musikstiftung-entree.de/wp-content/uploads/2026/04/udoversum.jpg
END:VEVENT
END:VCALENDAR